BEGIN:VCALENDAR
VERSION:2.0
PRODID:-//Pictures London//Cinema Listings//EN
CALSCALE:GREGORIAN
METHOD:PUBLISH
X-WR-CALNAME:Pictures London Cinema
BEGIN:VEVENT
UID:6c81a5a9-3f42-48b9-b7e4-474259818f5e@pictures.london
DTSTART:20260421T161500Z
DTEND:20260421T175300Z
SUMMARY:The Super Mario Galaxy Movie (2026) at Everyman Crystal Palace
DESCRIPTION:The Super Mario Galaxy Movie (2026)\nat Everyman Crystal Palace\nBook: https://purchase.everymancinema.com/launch/ticketing/1b7de214-b04e-5edf-a29b-0ea88fdf23de\nvia Pictures (pictures.london)
LOCATION:Everyman Crystal Palace\, 25 Church Road\, Crystal Palace\, SE19 2AE
URL:https://purchase.everymancinema.com/launch/ticketing/1b7de214-b04e-5edf-a29b-0ea88fdf23de
STATUS:CONFIRMED
END:VEVENT
END:VCALENDAR