BEGIN:VCALENDAR
VERSION:2.0
PRODID:-//Pictures London//Cinema Listings//EN
CALSCALE:GREGORIAN
METHOD:PUBLISH
X-WR-CALNAME:Pictures London Cinema
BEGIN:VEVENT
UID:6c68964b-22f1-484c-98f8-3fe62a280e51@pictures.london
DTSTART:20260501T173000Z
DTEND:20260501T192900Z
SUMMARY:The Devil Wears Prada 2 (2026) at Everyman Chelsea
DESCRIPTION:The Devil Wears Prada 2 (2026)\nat Everyman Chelsea\nBook: https://purchase.everymancinema.com/launch/ticketing/78bfa00d-ff62-565a-90a4-701b5b973899\nvia Pictures (pictures.london)
LOCATION:Everyman Chelsea\, 279 King's Road\, Chelsea\, SW3 3TD
URL:https://purchase.everymancinema.com/launch/ticketing/78bfa00d-ff62-565a-90a4-701b5b973899
STATUS:CONFIRMED
END:VEVENT
END:VCALENDAR