BEGIN:VCALENDAR
VERSION:2.0
PRODID:-//Pictures London//Cinema Listings//EN
CALSCALE:GREGORIAN
METHOD:PUBLISH
X-WR-CALNAME:Pictures London Cinema
BEGIN:VEVENT
UID:6bc8f4b4-ad36-47d9-8586-a65e565a4965@pictures.london
DTSTART:20260421T200000Z
DTEND:20260421T214500Z
SUMMARY:The Drama (2026) at Picturehouse Central
DESCRIPTION:The Drama (2026)\nat Picturehouse Central\nBook: https://www.picturehouses.com/movie-details/022/HO00017737/the-drama\nvia Pictures (pictures.london)
LOCATION:Picturehouse Central\, Corner of Great Windmill Street & Shaftesbury Avenue\, West End\, W1D 7DH
URL:https://www.picturehouses.com/movie-details/022/HO00017737/the-drama
STATUS:CONFIRMED
END:VEVENT
END:VCALENDAR