BEGIN:VCALENDAR
VERSION:2.0
PRODID:-//Pictures London//Cinema Listings//EN
CALSCALE:GREGORIAN
METHOD:PUBLISH
X-WR-CALNAME:Pictures London Cinema
BEGIN:VEVENT
UID:6b6f1bac-bd9f-44e0-b256-9c6c2cc9689b@pictures.london
DTSTART:20260421T170000Z
DTEND:20260421T185200Z
SUMMARY:The Straight Story (1999) at Curzon Aldgate
DESCRIPTION:The Straight Story (1999)\nat Curzon Aldgate\nFormat: DCP_4K\nBook: https://www.curzon.com/films/film-club-the-straight-story-4k-restoration/HO00006910/\nvia Pictures (pictures.london)
LOCATION:Curzon Aldgate\, 2 Whitechapel High Street\, Aldgate\, E1 8FA
URL:https://www.curzon.com/films/film-club-the-straight-story-4k-restoration/HO00006910/
STATUS:CONFIRMED
END:VEVENT
END:VCALENDAR