BEGIN:VCALENDAR
VERSION:2.0
PRODID:-//Pictures London//Cinema Listings//EN
CALSCALE:GREGORIAN
METHOD:PUBLISH
X-WR-CALNAME:Pictures London Cinema
BEGIN:VEVENT
UID:6b38f2c0-d927-4891-9e4c-3d82451f4d5a@pictures.london
DTSTART:20260426T170000Z
DTEND:20260426T190400Z
SUMMARY:Fantasia (1940) at David Lean Cinema
DESCRIPTION:Fantasia (1940)\nat David Lean Cinema\nBook: https://tinyurl.com/3wyw5hpw\nvia Pictures (pictures.london)
LOCATION:David Lean Cinema\, The Clocktower\, Croydon Airport\, Croydon\, CR0 0XZ
URL:https://tinyurl.com/3wyw5hpw
STATUS:CONFIRMED
END:VEVENT
END:VCALENDAR