BEGIN:VCALENDAR
VERSION:2.0
PRODID:-//Pictures London//Cinema Listings//EN
CALSCALE:GREGORIAN
METHOD:PUBLISH
X-WR-CALNAME:Pictures London Cinema
BEGIN:VEVENT
UID:6af750da-c006-4a59-8dd4-010e14bf5893@pictures.london
DTSTART:20260427T163000Z
DTEND:20260427T182600Z
SUMMARY:Take This Waltz (2011) at Prince Charles Cinema
DESCRIPTION:Take This Waltz (2011)\nat Prince Charles Cinema\nBook: https://princecharlescinema.com/prince-charles-cinema/booknow/31624845\nvia Pictures (pictures.london)
LOCATION:Prince Charles Cinema\, 7 Leicester Place\, Leicester Square\, WC2H 7BY
URL:https://princecharlescinema.com/prince-charles-cinema/booknow/31624845
STATUS:CONFIRMED
END:VEVENT
END:VCALENDAR