BEGIN:VCALENDAR
VERSION:2.0
PRODID:-//Pictures London//Cinema Listings//EN
CALSCALE:GREGORIAN
METHOD:PUBLISH
X-WR-CALNAME:Pictures London Cinema
BEGIN:VEVENT
UID:6adbbb0f-2a95-49a4-92c7-1a7030c5a583@pictures.london
DTSTART:20260422T133000Z
DTEND:20260422T153700Z
SUMMARY:Michael (2026) at Everyman Chelsea
DESCRIPTION:Michael (2026)\nat Everyman Chelsea\nBook: https://purchase.everymancinema.com/launch/ticketing/bed41387-2599-5745-8693-7c0552057024\nvia Pictures (pictures.london)
LOCATION:Everyman Chelsea\, 279 King's Road\, Chelsea\, SW3 3TD
URL:https://purchase.everymancinema.com/launch/ticketing/bed41387-2599-5745-8693-7c0552057024
STATUS:CONFIRMED
END:VEVENT
END:VCALENDAR