BEGIN:VCALENDAR
VERSION:2.0
PRODID:-//Pictures London//Cinema Listings//EN
CALSCALE:GREGORIAN
METHOD:PUBLISH
X-WR-CALNAME:Pictures London Cinema
BEGIN:VEVENT
UID:6a7d532f-9f99-467a-9cf9-811a29d34fa5@pictures.london
DTSTART:20260426T210000Z
DTEND:20260426T225700Z
SUMMARY:300 (2007) at Everyman Canary Wharf
DESCRIPTION:300 (2007)\nat Everyman Canary Wharf\nBook: https://purchase.everymancinema.com/launch/ticketing/a075053d-dc33-5552-8541-490999f73800\nvia Pictures (pictures.london)
LOCATION:Everyman Canary Wharf\, Crossrail Place\, Canary Wharf\, E14 5NY
URL:https://purchase.everymancinema.com/launch/ticketing/a075053d-dc33-5552-8541-490999f73800
STATUS:CONFIRMED
END:VEVENT
END:VCALENDAR