BEGIN:VCALENDAR
VERSION:2.0
PRODID:-//Pictures London//Cinema Listings//EN
CALSCALE:GREGORIAN
METHOD:PUBLISH
X-WR-CALNAME:Pictures London Cinema
BEGIN:VEVENT
UID:69e13d9a-202a-496d-8252-c7f7c84704a7@pictures.london
DTSTART:20260421T194500Z
DTEND:20260421T213900Z
SUMMARY:Rose of Nevada (2026) at Crouch End Picturehouse
DESCRIPTION:Rose of Nevada (2026)\nat Crouch End Picturehouse\nBook: https://www.picturehouses.com/movie-details/024/HO00017705/rose-of-nevada\nvia Pictures (pictures.london)
LOCATION:Crouch End Picturehouse\, 165 Tottenham Lane\, Crouch End\, N8 8HP
URL:https://www.picturehouses.com/movie-details/024/HO00017705/rose-of-nevada
STATUS:CONFIRMED
END:VEVENT
END:VCALENDAR