BEGIN:VCALENDAR
VERSION:2.0
PRODID:-//Pictures London//Cinema Listings//EN
CALSCALE:GREGORIAN
METHOD:PUBLISH
X-WR-CALNAME:Pictures London Cinema
BEGIN:VEVENT
UID:69975697-436c-47b5-bcdd-aaedb4bc3769@pictures.london
DTSTART:20260425T182000Z
DTEND:20260425T194900Z
SUMMARY:When We Were Kings (1996) at BFI Southbank
DESCRIPTION:When We Were Kings (1996)\nat BFI Southbank\nBook: https://whatson.bfi.org.uk/Online/default.asp?doWork::WScontent::loadArticle=Load&BOparam::WScontent::loadArticle::article_id=AB7FEA7C-C5C5-46F5-9245-8B5C6E9890E6&BOparam::WScontent::loadArticle::context_id=0D87DFB8-D207-485A-9723-46BAA6507C4C\nvia Pictures (pictures.london)
LOCATION:BFI Southbank\, Belvedere Road\, South Bank\, SE1 8XT
URL:https://whatson.bfi.org.uk/Online/default.asp?doWork::WScontent::loadArticle=Load&BOparam::WScontent::loadArticle::article_id=AB7FEA7C-C5C5-46F5-9245-8B5C6E9890E6&BOparam::WScontent::loadArticle::context_id=0D87DFB8-D207-485A-9723-46BAA6507C4C
STATUS:CONFIRMED
END:VEVENT
END:VCALENDAR