BEGIN:VCALENDAR
VERSION:2.0
PRODID:-//Pictures London//Cinema Listings//EN
CALSCALE:GREGORIAN
METHOD:PUBLISH
X-WR-CALNAME:Pictures London Cinema
BEGIN:VEVENT
UID:6959e7c0-3189-47b1-b057-890e291685a1@pictures.london
DTSTART:20260421T103000Z
DTEND:20260421T121700Z
SUMMARY:California Schemin' (2026) at East Dulwich Picturehouse
DESCRIPTION:California Schemin' (2026)\nat East Dulwich Picturehouse\nBook: https://www.picturehouses.com/movie-details/009/HO00017757/california-schemin\nvia Pictures (pictures.london)
LOCATION:East Dulwich Picturehouse\, Lordship Lane\, East Dulwich\, SE22 8EW
URL:https://www.picturehouses.com/movie-details/009/HO00017757/california-schemin
STATUS:CONFIRMED
END:VEVENT
END:VCALENDAR