BEGIN:VCALENDAR
VERSION:2.0
PRODID:-//Pictures London//Cinema Listings//EN
CALSCALE:GREGORIAN
METHOD:PUBLISH
X-WR-CALNAME:Pictures London Cinema
BEGIN:VEVENT
UID:6924b301-16f0-4a6f-902f-e00871286e95@pictures.london
DTSTART:20260426T190000Z
DTEND:20260426T203200Z
SUMMARY:The Bod Squad (1974) at The Nickel
DESCRIPTION:The Bod Squad (1974)\nat The Nickel\nFormat: DIGITAL\nBook: https://book.thenickel.co.uk/screening/311\nvia Pictures (pictures.london)
LOCATION:The Nickel\, 194 Upper Street\, Islington\, N1 1RQ
URL:https://book.thenickel.co.uk/screening/311
STATUS:CONFIRMED
END:VEVENT
END:VCALENDAR