BEGIN:VCALENDAR
VERSION:2.0
PRODID:-//Pictures London//Cinema Listings//EN
CALSCALE:GREGORIAN
METHOD:PUBLISH
X-WR-CALNAME:Pictures London Cinema
BEGIN:VEVENT
UID:68ebdebe-860a-462a-b3ea-fc67d6a14dbc@pictures.london
DTSTART:20260427T100000Z
DTEND:20260427T114300Z
SUMMARY:It Was Just an Accident (2025) at Barbican Cinema
DESCRIPTION:It Was Just an Accident (2025)\nat Barbican Cinema\nBook: https://tickets.barbican.org.uk/choose-seats/3372201\nvia Pictures (pictures.london)
LOCATION:Barbican Cinema\, Silk Street\, Barbican\, EC2Y 8DS
URL:https://tickets.barbican.org.uk/choose-seats/3372201
STATUS:CONFIRMED
END:VEVENT
END:VCALENDAR