BEGIN:VCALENDAR
VERSION:2.0
PRODID:-//Pictures London//Cinema Listings//EN
CALSCALE:GREGORIAN
METHOD:PUBLISH
X-WR-CALNAME:Pictures London Cinema
BEGIN:VEVENT
UID:68aadff2-d436-4f91-94f7-5f439c26e00a@pictures.london
DTSTART:20260428T193000Z
DTEND:20260428T210200Z
SUMMARY:Three Colours: White (1994) at Rio Cinema
DESCRIPTION:Three Colours: White (1994)\nat Rio Cinema\nBook: https://riocinema.org.uk/Rio.dll/WhatsOn?f=2445590\nvia Pictures (pictures.london)
LOCATION:Rio Cinema\, 107 Kingsland High Street\, Dalston\, E8 2PB
URL:https://riocinema.org.uk/Rio.dll/WhatsOn?f=2445590
STATUS:CONFIRMED
END:VEVENT
END:VCALENDAR