BEGIN:VCALENDAR
VERSION:2.0
PRODID:-//Pictures London//Cinema Listings//EN
CALSCALE:GREGORIAN
METHOD:PUBLISH
X-WR-CALNAME:Pictures London Cinema
BEGIN:VEVENT
UID:6879a388-9f00-418f-8545-f535554e84e7@pictures.london
DTSTART:20260422T174500Z
DTEND:20260422T195200Z
SUMMARY:Michael (2026) at Everyman King's Cross
DESCRIPTION:Michael (2026)\nat Everyman King's Cross\nBook: https://purchase.everymancinema.com/launch/ticketing/50e25459-06ee-5396-9c20-e4728f92a38f\nvia Pictures (pictures.london)
LOCATION:Everyman King's Cross\, Coal Drops Yard\, King's Cross\, N1C 4AG
URL:https://purchase.everymancinema.com/launch/ticketing/50e25459-06ee-5396-9c20-e4728f92a38f
STATUS:CONFIRMED
END:VEVENT
END:VCALENDAR