BEGIN:VCALENDAR
VERSION:2.0
PRODID:-//Pictures London//Cinema Listings//EN
CALSCALE:GREGORIAN
METHOD:PUBLISH
X-WR-CALNAME:Pictures London Cinema
BEGIN:VEVENT
UID:681b8570-8096-464a-ae54-673a640aa360@pictures.london
DTSTART:20260501T171500Z
DTEND:20260501T191400Z
SUMMARY:The Devil Wears Prada 2 (2026) at Clapham Picturehouse
DESCRIPTION:The Devil Wears Prada 2 (2026)\nat Clapham Picturehouse\nBook: https://www.picturehouses.com/movie-details/020/HO00017738/the-devil-wears-prada-2\nvia Pictures (pictures.london)
LOCATION:Clapham Picturehouse\, 76 Venn Street\, Clapham\, SW4 7UL
URL:https://www.picturehouses.com/movie-details/020/HO00017738/the-devil-wears-prada-2
STATUS:CONFIRMED
END:VEVENT
END:VCALENDAR