BEGIN:VCALENDAR
VERSION:2.0
PRODID:-//Pictures London//Cinema Listings//EN
CALSCALE:GREGORIAN
METHOD:PUBLISH
X-WR-CALNAME:Pictures London Cinema
BEGIN:VEVENT
UID:66c4d9a0-a2f0-4156-96cb-84384abab6fb@pictures.london
DTSTART:20260421T204000Z
DTEND:20260421T231700Z
SUMMARY:Project Hail Mary (2026) at Genesis Cinema
DESCRIPTION:Project Hail Mary (2026)\nat Genesis Cinema\nBook: https://genesis.admit-one.co.uk/seats/?perfCode=10578\nvia Pictures (pictures.london)
LOCATION:Genesis Cinema\, 93-95 Mile End Road\, Mile End\, E1 4UJ
URL:https://genesis.admit-one.co.uk/seats/?perfCode=10578
STATUS:CONFIRMED
END:VEVENT
END:VCALENDAR