BEGIN:VCALENDAR
VERSION:2.0
PRODID:-//Pictures London//Cinema Listings//EN
CALSCALE:GREGORIAN
METHOD:PUBLISH
X-WR-CALNAME:Pictures London Cinema
BEGIN:VEVENT
UID:66b57ebe-8b06-46c7-9a66-8c3b179e0a15@pictures.london
DTSTART:20260427T164000Z
DTEND:20260427T183200Z
SUMMARY:Romería (2025) at Curzon Kingston
DESCRIPTION:Romería (2025)\nat Curzon Kingston\nBook: https://www.curzon.com/films/romer-a/HO00006885/\nvia Pictures (pictures.london)
LOCATION:Curzon Kingston\, Richmond Road\, Kingston\, KT2 5BW
URL:https://www.curzon.com/films/romer-a/HO00006885/
STATUS:CONFIRMED
END:VEVENT
END:VCALENDAR