BEGIN:VCALENDAR
VERSION:2.0
PRODID:-//Pictures London//Cinema Listings//EN
CALSCALE:GREGORIAN
METHOD:PUBLISH
X-WR-CALNAME:Pictures London Cinema
BEGIN:VEVENT
UID:65f4280c-87f2-42d2-9328-cbc1d11bbfce@pictures.london
DTSTART:20260422T193000Z
DTEND:20260422T213000Z
SUMMARY:Amélie (25th Anniversary Re-release) (2026) at Curzon Soho
DESCRIPTION:Amélie (25th Anniversary Re-release) (2026)\nat Curzon Soho\nEvent: anniversary\nBook: https://www.curzon.com/films/am-lie-25th-anniversary-re-release/HO00006891/\nvia Pictures (pictures.london)
LOCATION:Curzon Soho\, 99 Shaftesbury Avenue\, Soho\, W1D 5DY
URL:https://www.curzon.com/films/am-lie-25th-anniversary-re-release/HO00006891/
STATUS:CONFIRMED
END:VEVENT
END:VCALENDAR