BEGIN:VCALENDAR
VERSION:2.0
PRODID:-//Pictures London//Cinema Listings//EN
CALSCALE:GREGORIAN
METHOD:PUBLISH
X-WR-CALNAME:Pictures London Cinema
BEGIN:VEVENT
UID:65d3adcb-ec26-46fc-ba33-85583f3ac176@pictures.london
DTSTART:20260501T142000Z
DTEND:20260501T161900Z
SUMMARY:The Devil Wears Prada 2 (2026) at Curzon Kingston
DESCRIPTION:The Devil Wears Prada 2 (2026)\nat Curzon Kingston\nBook: https://www.curzon.com/films/the-devil-wears-prada-2/HO00006909/\nvia Pictures (pictures.london)
LOCATION:Curzon Kingston\, Richmond Road\, Kingston\, KT2 5BW
URL:https://www.curzon.com/films/the-devil-wears-prada-2/HO00006909/
STATUS:CONFIRMED
END:VEVENT
END:VCALENDAR