BEGIN:VCALENDAR
VERSION:2.0
PRODID:-//Pictures London//Cinema Listings//EN
CALSCALE:GREGORIAN
METHOD:PUBLISH
X-WR-CALNAME:Pictures London Cinema
BEGIN:VEVENT
UID:65c03a9d-4a0b-4fb3-9205-81eb85a130bb@pictures.london
DTSTART:20260424T202000Z
DTEND:20260424T221200Z
SUMMARY:Mother Mary (2026) at Curzon Aldgate
DESCRIPTION:Mother Mary (2026)\nat Curzon Aldgate\nBook: https://www.curzon.com/films/mother-mary/HO00006899/\nvia Pictures (pictures.london)
LOCATION:Curzon Aldgate\, 2 Whitechapel High Street\, Aldgate\, E1 8FA
URL:https://www.curzon.com/films/mother-mary/HO00006899/
STATUS:CONFIRMED
END:VEVENT
END:VCALENDAR