BEGIN:VCALENDAR
VERSION:2.0
PRODID:-//Pictures London//Cinema Listings//EN
CALSCALE:GREGORIAN
METHOD:PUBLISH
X-WR-CALNAME:Pictures London Cinema
BEGIN:VEVENT
UID:65b3a6fd-6f26-4097-adc0-26a68ac34719@pictures.london
DTSTART:20260421T210000Z
DTEND:20260421T224700Z
SUMMARY:California Schemin' (2026) at Everyman Muswell Hill
DESCRIPTION:California Schemin' (2026)\nat Everyman Muswell Hill\nBook: https://purchase.everymancinema.com/launch/ticketing/ad0ec412-094a-5f72-8648-7cc511efccdd\nvia Pictures (pictures.london)
LOCATION:Everyman Muswell Hill\, Fortis Green Road\, Muswell Hill\, N10 3TD
URL:https://purchase.everymancinema.com/launch/ticketing/ad0ec412-094a-5f72-8648-7cc511efccdd
STATUS:CONFIRMED
END:VEVENT
END:VCALENDAR