BEGIN:VCALENDAR
VERSION:2.0
PRODID:-//Pictures London//Cinema Listings//EN
CALSCALE:GREGORIAN
METHOD:PUBLISH
X-WR-CALNAME:Pictures London Cinema
BEGIN:VEVENT
UID:65891091-6a46-4701-8943-30afd9f52c8a@pictures.london
DTSTART:20260425T173000Z
DTEND:20260425T193000Z
SUMMARY:The Passenger at Close-Up Cinema
DESCRIPTION:The Passenger\nat Close-Up Cinema\nBook: https://www.ticketsource.co.uk/close-up-cinema/e-gryeal\nvia Pictures (pictures.london)
LOCATION:Close-Up Cinema\, 97 Sclater Street\, Shoreditch\, E1 6HR
URL:https://www.ticketsource.co.uk/close-up-cinema/e-gryeal
STATUS:CONFIRMED
END:VEVENT
END:VCALENDAR