BEGIN:VCALENDAR
VERSION:2.0
PRODID:-//Pictures London//Cinema Listings//EN
CALSCALE:GREGORIAN
METHOD:PUBLISH
X-WR-CALNAME:Pictures London Cinema
BEGIN:VEVENT
UID:650b1e9f-3339-447c-b322-19a2b52c3e3a@pictures.london
DTSTART:20260421T172000Z
DTEND:20260421T191000Z
SUMMARY:Father Mother Sister Brother (2025) at Rio Cinema
DESCRIPTION:Father Mother Sister Brother (2025)\nat Rio Cinema\nBook: https://riocinema.org.uk/Rio.dll/WhatsOn?f=2428736\nvia Pictures (pictures.london)
LOCATION:Rio Cinema\, 107 Kingsland High Street\, Dalston\, E8 2PB
URL:https://riocinema.org.uk/Rio.dll/WhatsOn?f=2428736
STATUS:CONFIRMED
END:VEVENT
END:VCALENDAR