BEGIN:VCALENDAR
VERSION:2.0
PRODID:-//Pictures London//Cinema Listings//EN
CALSCALE:GREGORIAN
METHOD:PUBLISH
X-WR-CALNAME:Pictures London Cinema
BEGIN:VEVENT
UID:6479417b-11f5-4d43-bb3d-a85f9664385e@pictures.london
DTSTART:20260421T191500Z
DTEND:20260421T215200Z
SUMMARY:Project Hail Mary (2026) at Curzon Victoria
DESCRIPTION:Project Hail Mary (2026)\nat Curzon Victoria\nBook: https://www.curzon.com/films/project-hail-mary/HO00006852/\nvia Pictures (pictures.london)
LOCATION:Curzon Victoria\, 58 Victoria Street\, Victoria\, SW1E 5JA
URL:https://www.curzon.com/films/project-hail-mary/HO00006852/
STATUS:CONFIRMED
END:VEVENT
END:VCALENDAR