BEGIN:VCALENDAR
VERSION:2.0
PRODID:-//Pictures London//Cinema Listings//EN
CALSCALE:GREGORIAN
METHOD:PUBLISH
X-WR-CALNAME:Pictures London Cinema
BEGIN:VEVENT
UID:63e76e6c-3bf8-4f6a-b64b-5ce8c55fff02@pictures.london
DTSTART:20260425T164500Z
DTEND:20260425T182600Z
SUMMARY:Infernal Affairs (2002) at Riverside Studios
DESCRIPTION:Infernal Affairs (2002)\nat Riverside Studios\nBook: https://riversidestudios.co.uk/seats/139201/\nvia Pictures (pictures.london)
LOCATION:Riverside Studios\, 101 Queen Caroline Street\, Hammersmith\, W6 9BN
URL:https://riversidestudios.co.uk/seats/139201/
STATUS:CONFIRMED
END:VEVENT
END:VCALENDAR