BEGIN:VCALENDAR
VERSION:2.0
PRODID:-//Pictures London//Cinema Listings//EN
CALSCALE:GREGORIAN
METHOD:PUBLISH
X-WR-CALNAME:Pictures London Cinema
BEGIN:VEVENT
UID:63b4e457-c228-4aee-8d20-ecddd6c3e595@pictures.london
DTSTART:20260422T120000Z
DTEND:20260422T140700Z
SUMMARY:Michael (2026) at Curzon Victoria
DESCRIPTION:Michael (2026)\nat Curzon Victoria\nBook: https://www.curzon.com/films/michael/HO00006898/\nvia Pictures (pictures.london)
LOCATION:Curzon Victoria\, 58 Victoria Street\, Victoria\, SW1E 5JA
URL:https://www.curzon.com/films/michael/HO00006898/
STATUS:CONFIRMED
END:VEVENT
END:VCALENDAR