BEGIN:VCALENDAR
VERSION:2.0
PRODID:-//Pictures London//Cinema Listings//EN
CALSCALE:GREGORIAN
METHOD:PUBLISH
X-WR-CALNAME:Pictures London Cinema
BEGIN:VEVENT
UID:638c8840-5d50-47e7-a810-11d2b9d04ade@pictures.london
DTSTART:20260422T145000Z
DTEND:20260422T165000Z
SUMMARY:Amélie (25th Anniversary Re-release) (2026) at Curzon Bloomsbury
DESCRIPTION:Amélie (25th Anniversary Re-release) (2026)\nat Curzon Bloomsbury\nEvent: anniversary\nBook: https://www.curzon.com/films/am-lie-25th-anniversary-re-release/HO00006891/\nvia Pictures (pictures.london)
LOCATION:Curzon Bloomsbury\, The Brunswick Centre\, Bloomsbury\, WC1H 8AG
URL:https://www.curzon.com/films/am-lie-25th-anniversary-re-release/HO00006891/
STATUS:CONFIRMED
END:VEVENT
END:VCALENDAR