BEGIN:VCALENDAR
VERSION:2.0
PRODID:-//Pictures London//Cinema Listings//EN
CALSCALE:GREGORIAN
METHOD:PUBLISH
X-WR-CALNAME:Pictures London Cinema
BEGIN:VEVENT
UID:62d1575e-a93b-43be-84f9-8bfc887042f2@pictures.london
DTSTART:20260421T171500Z
DTEND:20260421T195200Z
SUMMARY:Project Hail Mary (2026) at Electric Cinema White City
DESCRIPTION:Project Hail Mary (2026)\nat Electric Cinema White City\nBook: https://www.electriccinema.co.uk/programme/\nvia Pictures (pictures.london)
LOCATION:Electric Cinema White City\, Television Centre\, White City\, W12 7SL
URL:https://www.electriccinema.co.uk/programme/
STATUS:CONFIRMED
END:VEVENT
END:VCALENDAR