BEGIN:VCALENDAR
VERSION:2.0
PRODID:-//Pictures London//Cinema Listings//EN
CALSCALE:GREGORIAN
METHOD:PUBLISH
X-WR-CALNAME:Pictures London Cinema
BEGIN:VEVENT
UID:62ba2a3c-ec84-48d0-9969-fbe0c6898343@pictures.london
DTSTART:20260425T120000Z
DTEND:20260425T134400Z
SUMMARY:The Bad Guys 2 (2025) at Hackney Picturehouse
DESCRIPTION:The Bad Guys 2 (2025)\nat Hackney Picturehouse\nEvent: special event\nBook: https://www.picturehouses.com/movie-details/010/HO00011590/the-bad-guys\nvia Pictures (pictures.london)
LOCATION:Hackney Picturehouse\, 270 Mare Street\, Hackney\, E8 1EJ
URL:https://www.picturehouses.com/movie-details/010/HO00011590/the-bad-guys
STATUS:CONFIRMED
END:VEVENT
END:VCALENDAR