BEGIN:VCALENDAR
VERSION:2.0
PRODID:-//Pictures London//Cinema Listings//EN
CALSCALE:GREGORIAN
METHOD:PUBLISH
X-WR-CALNAME:Pictures London Cinema
BEGIN:VEVENT
UID:62b26c0e-b7e3-41f6-b92b-baffee99eef6@pictures.london
DTSTART:20260422T164000Z
DTEND:20260422T184700Z
SUMMARY:Michael (2026) at Curzon Kingston
DESCRIPTION:Michael (2026)\nat Curzon Kingston\nBook: https://www.curzon.com/films/michael/HO00006898/\nvia Pictures (pictures.london)
LOCATION:Curzon Kingston\, Richmond Road\, Kingston\, KT2 5BW
URL:https://www.curzon.com/films/michael/HO00006898/
STATUS:CONFIRMED
END:VEVENT
END:VCALENDAR