BEGIN:VCALENDAR
VERSION:2.0
PRODID:-//Pictures London//Cinema Listings//EN
CALSCALE:GREGORIAN
METHOD:PUBLISH
X-WR-CALNAME:Pictures London Cinema
BEGIN:VEVENT
UID:62ae02d4-6f83-486b-9cb2-fca6189aa91f@pictures.london
DTSTART:20260421T201500Z
DTEND:20260421T215100Z
SUMMARY:Rebuilding (2025) at Finsbury Park Picturehouse
DESCRIPTION:Rebuilding (2025)\nat Finsbury Park Picturehouse\nBook: https://www.picturehouses.com/movie-details/029/HO00017446/rebuilding\nvia Pictures (pictures.london)
LOCATION:Finsbury Park Picturehouse\, Unit B\, Finsbury Park Station\, Finsbury Park\, N4 3FP
URL:https://www.picturehouses.com/movie-details/029/HO00017446/rebuilding
STATUS:CONFIRMED
END:VEVENT
END:VCALENDAR