BEGIN:VCALENDAR
VERSION:2.0
PRODID:-//Pictures London//Cinema Listings//EN
CALSCALE:GREGORIAN
METHOD:PUBLISH
X-WR-CALNAME:Pictures London Cinema
BEGIN:VEVENT
UID:628c1ffd-5a06-4f35-ba20-f656a9f6d471@pictures.london
DTSTART:20260427T140000Z
DTEND:20260427T160000Z
SUMMARY:Lexi Seniors' Film Club: The Straight Story (4K Restoration) at The Lexi Cinema
DESCRIPTION:Lexi Seniors' Film Club: The Straight Story (4K Restoration)\nat The Lexi Cinema\nFormat: DCP_4K\nBook: https://thelexicinema.co.uk/TheLexiCinema.dll/Booking?Booking=TSelectItems.waSelectItemsPrompt.TcsWebMenuItem_0.TcsWebTab_0.TcsPerformance_9735944.TcsSection_5209705\nvia Pictures (pictures.london)
LOCATION:The Lexi Cinema\, 194B Chamberlayne Road\, Kensal Rise\, NW10 3JU
URL:https://thelexicinema.co.uk/TheLexiCinema.dll/Booking?Booking=TSelectItems.waSelectItemsPrompt.TcsWebMenuItem_0.TcsWebTab_0.TcsPerformance_9735944.TcsSection_5209705
STATUS:CONFIRMED
END:VEVENT
END:VCALENDAR