BEGIN:VCALENDAR
VERSION:2.0
PRODID:-//Pictures London//Cinema Listings//EN
CALSCALE:GREGORIAN
METHOD:PUBLISH
X-WR-CALNAME:Pictures London Cinema
BEGIN:VEVENT
UID:61f4c318-1e58-42b8-adbe-ea57c2faface@pictures.london
DTSTART:20260501T170000Z
DTEND:20260501T185900Z
SUMMARY:The Devil Wears Prada 2 (2026) at Curzon Bloomsbury
DESCRIPTION:The Devil Wears Prada 2 (2026)\nat Curzon Bloomsbury\nBook: https://www.curzon.com/films/the-devil-wears-prada-2/HO00006909/\nvia Pictures (pictures.london)
LOCATION:Curzon Bloomsbury\, The Brunswick Centre\, Bloomsbury\, WC1H 8AG
URL:https://www.curzon.com/films/the-devil-wears-prada-2/HO00006909/
STATUS:CONFIRMED
END:VEVENT
END:VCALENDAR