BEGIN:VCALENDAR
VERSION:2.0
PRODID:-//Pictures London//Cinema Listings//EN
CALSCALE:GREGORIAN
METHOD:PUBLISH
X-WR-CALNAME:Pictures London Cinema
BEGIN:VEVENT
UID:6198736a-861b-42cc-86be-20c738d934e0@pictures.london
DTSTART:20260424T150000Z
DTEND:20260424T163700Z
SUMMARY:eXistenZ (1999) at The Nickel
DESCRIPTION:eXistenZ (1999)\nat The Nickel\nFormat: DIGITAL\nBook: https://book.thenickel.co.uk/screening/281\nvia Pictures (pictures.london)
LOCATION:The Nickel\, 194 Upper Street\, Islington\, N1 1RQ
URL:https://book.thenickel.co.uk/screening/281
STATUS:CONFIRMED
END:VEVENT
END:VCALENDAR