BEGIN:VCALENDAR
VERSION:2.0
PRODID:-//Pictures London//Cinema Listings//EN
CALSCALE:GREGORIAN
METHOD:PUBLISH
X-WR-CALNAME:Pictures London Cinema
BEGIN:VEVENT
UID:619687fc-8a40-48c6-9cdb-a0206f955b74@pictures.london
DTSTART:20260424T164500Z
DTEND:20260424T183700Z
SUMMARY:Mother Mary (2026) at Curzon Victoria
DESCRIPTION:Mother Mary (2026)\nat Curzon Victoria\nBook: https://www.curzon.com/films/mother-mary/HO00006899/\nvia Pictures (pictures.london)
LOCATION:Curzon Victoria\, 58 Victoria Street\, Victoria\, SW1E 5JA
URL:https://www.curzon.com/films/mother-mary/HO00006899/
STATUS:CONFIRMED
END:VEVENT
END:VCALENDAR