BEGIN:VCALENDAR
VERSION:2.0
PRODID:-//Pictures London//Cinema Listings//EN
CALSCALE:GREGORIAN
METHOD:PUBLISH
X-WR-CALNAME:Pictures London Cinema
BEGIN:VEVENT
UID:61856ce5-1819-487f-84ed-e21ab5c8cd9c@pictures.london
DTSTART:20260422T140000Z
DTEND:20260422T160700Z
SUMMARY:Michael (2026) at East Dulwich Picturehouse
DESCRIPTION:Michael (2026)\nat East Dulwich Picturehouse\nBook: https://www.picturehouses.com/movie-details/009/HO00017772/michael\nvia Pictures (pictures.london)
LOCATION:East Dulwich Picturehouse\, Lordship Lane\, East Dulwich\, SE22 8EW
URL:https://www.picturehouses.com/movie-details/009/HO00017772/michael
STATUS:CONFIRMED
END:VEVENT
END:VCALENDAR