BEGIN:VCALENDAR
VERSION:2.0
PRODID:-//Pictures London//Cinema Listings//EN
CALSCALE:GREGORIAN
METHOD:PUBLISH
X-WR-CALNAME:Pictures London Cinema
BEGIN:VEVENT
UID:60d4da7f-9b4f-4522-9d9b-1d0c1357c013@pictures.london
DTSTART:20260425T133500Z
DTEND:20260425T153500Z
SUMMARY:Hitpig at Genesis Cinema
DESCRIPTION:Hitpig\nat Genesis Cinema\nBook: https://genesis.admit-one.co.uk/seats/?perfCode=10665\nvia Pictures (pictures.london)
LOCATION:Genesis Cinema\, 93-95 Mile End Road\, Mile End\, E1 4UJ
URL:https://genesis.admit-one.co.uk/seats/?perfCode=10665
STATUS:CONFIRMED
END:VEVENT
END:VCALENDAR