BEGIN:VCALENDAR
VERSION:2.0
PRODID:-//Pictures London//Cinema Listings//EN
CALSCALE:GREGORIAN
METHOD:PUBLISH
X-WR-CALNAME:Pictures London Cinema
BEGIN:VEVENT
UID:60776584-135c-4f99-a0cc-fefd1d3853bb@pictures.london
DTSTART:20260501T163000Z
DTEND:20260501T182900Z
SUMMARY:The Devil Wears Prada 2 (2026) at Everyman Belsize Park
DESCRIPTION:The Devil Wears Prada 2 (2026)\nat Everyman Belsize Park\nBook: https://purchase.everymancinema.com/launch/ticketing/294dba83-3119-5ec2-b629-02c1ca8d660d\nvia Pictures (pictures.london)
LOCATION:Everyman Belsize Park\, 203 Haverstock Hill\, Belsize Park\, NW3 4QG
URL:https://purchase.everymancinema.com/launch/ticketing/294dba83-3119-5ec2-b629-02c1ca8d660d
STATUS:CONFIRMED
END:VEVENT
END:VCALENDAR