BEGIN:VCALENDAR
VERSION:2.0
PRODID:-//Pictures London//Cinema Listings//EN
CALSCALE:GREGORIAN
METHOD:PUBLISH
X-WR-CALNAME:Pictures London Cinema
BEGIN:VEVENT
UID:6003929d-02e9-4591-8e0e-3b999ffcadf9@pictures.london
DTSTART:20260422T103000Z
DTEND:20260422T123700Z
SUMMARY:Michael (2026) at Everyman Crystal Palace
DESCRIPTION:Michael (2026)\nat Everyman Crystal Palace\nBook: https://purchase.everymancinema.com/launch/ticketing/049ba5ac-2e7a-5c52-9c18-c84461b90c4d\nvia Pictures (pictures.london)
LOCATION:Everyman Crystal Palace\, 25 Church Road\, Crystal Palace\, SE19 2AE
URL:https://purchase.everymancinema.com/launch/ticketing/049ba5ac-2e7a-5c52-9c18-c84461b90c4d
STATUS:CONFIRMED
END:VEVENT
END:VCALENDAR