BEGIN:VCALENDAR
VERSION:2.0
PRODID:-//Pictures London//Cinema Listings//EN
CALSCALE:GREGORIAN
METHOD:PUBLISH
X-WR-CALNAME:Pictures London Cinema
BEGIN:VEVENT
UID:5dc61a5d-7c00-4d9e-8718-ba27d214620a@pictures.london
DTSTART:20260421T180000Z
DTEND:20260421T193900Z
SUMMARY:Glenrothan (2026) at Everyman Muswell Hill
DESCRIPTION:Glenrothan (2026)\nat Everyman Muswell Hill\nBook: https://purchase.everymancinema.com/launch/ticketing/01725f88-251b-56b4-846f-bf102e0ce051\nvia Pictures (pictures.london)
LOCATION:Everyman Muswell Hill\, Fortis Green Road\, Muswell Hill\, N10 3TD
URL:https://purchase.everymancinema.com/launch/ticketing/01725f88-251b-56b4-846f-bf102e0ce051
STATUS:CONFIRMED
END:VEVENT
END:VCALENDAR