BEGIN:VCALENDAR
VERSION:2.0
PRODID:-//Pictures London//Cinema Listings//EN
CALSCALE:GREGORIAN
METHOD:PUBLISH
X-WR-CALNAME:Pictures London Cinema
BEGIN:VEVENT
UID:5d3eb19c-a4f2-4cfc-9fcb-d5879421f34d@pictures.london
DTSTART:20260530T160000Z
DTEND:20260530T180000Z
SUMMARY:Dear Mr Manley (2025) at Rio Cinema
DESCRIPTION:Dear Mr Manley (2025)\nat Rio Cinema\nBook: https://riocinema.org.uk/Rio.dll/WhatsOn?f=2114793\nvia Pictures (pictures.london)
LOCATION:Rio Cinema\, 107 Kingsland High Street\, Dalston\, E8 2PB
URL:https://riocinema.org.uk/Rio.dll/WhatsOn?f=2114793
STATUS:CONFIRMED
END:VEVENT
END:VCALENDAR