BEGIN:VCALENDAR
VERSION:2.0
PRODID:-//Pictures London//Cinema Listings//EN
CALSCALE:GREGORIAN
METHOD:PUBLISH
X-WR-CALNAME:Pictures London Cinema
BEGIN:VEVENT
UID:5cad7518-198d-4caa-a29e-d7cdf717d709@pictures.london
DTSTART:20260421T171500Z
DTEND:20260421T184500Z
SUMMARY:Cléo from 5 to 7 (1962) at Prince Charles Cinema
DESCRIPTION:Cléo from 5 to 7 (1962)\nat Prince Charles Cinema\nBook: https://princecharlescinema.com/prince-charles-cinema/booknow/31625569\nvia Pictures (pictures.london)
LOCATION:Prince Charles Cinema\, 7 Leicester Place\, Leicester Square\, WC2H 7BY
URL:https://princecharlescinema.com/prince-charles-cinema/booknow/31625569
STATUS:CONFIRMED
END:VEVENT
END:VCALENDAR