BEGIN:VCALENDAR
VERSION:2.0
PRODID:-//Pictures London//Cinema Listings//EN
CALSCALE:GREGORIAN
METHOD:PUBLISH
X-WR-CALNAME:Pictures London Cinema
BEGIN:VEVENT
UID:5be087d3-26ce-4b76-be8e-8685a9d50730@pictures.london
DTSTART:20260421T205000Z
DTEND:20260421T222600Z
SUMMARY:Rebuilding (2025) at Hackney Picturehouse
DESCRIPTION:Rebuilding (2025)\nat Hackney Picturehouse\nBook: https://www.picturehouses.com/movie-details/010/HO00017446/rebuilding\nvia Pictures (pictures.london)
LOCATION:Hackney Picturehouse\, 270 Mare Street\, Hackney\, E8 1EJ
URL:https://www.picturehouses.com/movie-details/010/HO00017446/rebuilding
STATUS:CONFIRMED
END:VEVENT
END:VCALENDAR