BEGIN:VCALENDAR
VERSION:2.0
PRODID:-//Pictures London//Cinema Listings//EN
CALSCALE:GREGORIAN
METHOD:PUBLISH
X-WR-CALNAME:Pictures London Cinema
BEGIN:VEVENT
UID:5bc22d72-29af-4342-96e0-f563d78806c5@pictures.london
DTSTART:20260424T173000Z
DTEND:20260424T192200Z
SUMMARY:Mother Mary (2026) at Curzon Bloomsbury
DESCRIPTION:Mother Mary (2026)\nat Curzon Bloomsbury\nBook: https://www.curzon.com/films/mother-mary/HO00006899/\nvia Pictures (pictures.london)
LOCATION:Curzon Bloomsbury\, The Brunswick Centre\, Bloomsbury\, WC1H 8AG
URL:https://www.curzon.com/films/mother-mary/HO00006899/
STATUS:CONFIRMED
END:VEVENT
END:VCALENDAR