BEGIN:VCALENDAR
VERSION:2.0
PRODID:-//Pictures London//Cinema Listings//EN
CALSCALE:GREGORIAN
METHOD:PUBLISH
X-WR-CALNAME:Pictures London Cinema
BEGIN:VEVENT
UID:5bc0aed9-01b0-422f-9547-1653b1b9bfc3@pictures.london
DTSTART:20260426T210000Z
DTEND:20260426T225700Z
SUMMARY:300 (2007) at Everyman Crystal Palace
DESCRIPTION:300 (2007)\nat Everyman Crystal Palace\nBook: https://purchase.everymancinema.com/launch/ticketing/066e5529-abd9-51b2-ae10-df00d36725de\nvia Pictures (pictures.london)
LOCATION:Everyman Crystal Palace\, 25 Church Road\, Crystal Palace\, SE19 2AE
URL:https://purchase.everymancinema.com/launch/ticketing/066e5529-abd9-51b2-ae10-df00d36725de
STATUS:CONFIRMED
END:VEVENT
END:VCALENDAR