BEGIN:VCALENDAR
VERSION:2.0
PRODID:-//Pictures London//Cinema Listings//EN
CALSCALE:GREGORIAN
METHOD:PUBLISH
X-WR-CALNAME:Pictures London Cinema
BEGIN:VEVENT
UID:5bb9d127-153b-4c8c-b9f6-d529240d7aca@pictures.london
DTSTART:20260421T170000Z
DTEND:20260421T190400Z
SUMMARY:Cabaret (1972) at Curzon Soho
DESCRIPTION:Cabaret (1972)\nat Curzon Soho\nBook: https://www.curzon.com/films/film-club-cabaret/HO00006919/\nvia Pictures (pictures.london)
LOCATION:Curzon Soho\, 99 Shaftesbury Avenue\, Soho\, W1D 5DY
URL:https://www.curzon.com/films/film-club-cabaret/HO00006919/
STATUS:CONFIRMED
END:VEVENT
END:VCALENDAR