BEGIN:VCALENDAR
VERSION:2.0
PRODID:-//Pictures London//Cinema Listings//EN
CALSCALE:GREGORIAN
METHOD:PUBLISH
X-WR-CALNAME:Pictures London Cinema
BEGIN:VEVENT
UID:5bafec58-f659-4317-b02e-56fd98881956@pictures.london
DTSTART:20260421T205000Z
DTEND:20260421T223500Z
SUMMARY:The Drama (2026) at Peckhamplex
DESCRIPTION:The Drama (2026)\nat Peckhamplex\nBook: https://ticketing.eu.veezi.com/purchase/79578?siteToken=zkD3Bh7H%2fkuZI9VTgCj%2bgg%3d%3d\nvia Pictures (pictures.london)
LOCATION:Peckhamplex\, 95A Rye Lane\, Peckham\, SE15 4ST
URL:https://ticketing.eu.veezi.com/purchase/79578?siteToken=zkD3Bh7H%2fkuZI9VTgCj%2bgg%3d%3d
STATUS:CONFIRMED
END:VEVENT
END:VCALENDAR