BEGIN:VCALENDAR
VERSION:2.0
PRODID:-//Pictures London//Cinema Listings//EN
CALSCALE:GREGORIAN
METHOD:PUBLISH
X-WR-CALNAME:Pictures London Cinema
BEGIN:VEVENT
UID:5b2f334a-b98a-420c-ac85-d051f06a26a1@pictures.london
DTSTART:20260422T163000Z
DTEND:20260422T183700Z
SUMMARY:Michael (2026) at Everyman Baker Street
DESCRIPTION:Michael (2026)\nat Everyman Baker Street\nBook: https://purchase.everymancinema.com/launch/ticketing/5d7267f0-9199-582f-acdc-c85632454f5e\nvia Pictures (pictures.london)
LOCATION:Everyman Baker Street\, 96-98 Baker Street\, Marylebone\, W1U 6AG
URL:https://purchase.everymancinema.com/launch/ticketing/5d7267f0-9199-582f-acdc-c85632454f5e
STATUS:CONFIRMED
END:VEVENT
END:VCALENDAR