BEGIN:VCALENDAR
VERSION:2.0
PRODID:-//Pictures London//Cinema Listings//EN
CALSCALE:GREGORIAN
METHOD:PUBLISH
X-WR-CALNAME:Pictures London Cinema
BEGIN:VEVENT
UID:5b0b6dcd-b578-43e4-bc47-70081faeadb3@pictures.london
DTSTART:20260501T140000Z
DTEND:20260501T155900Z
SUMMARY:The Devil Wears Prada 2 (2026) at Curzon Aldgate
DESCRIPTION:The Devil Wears Prada 2 (2026)\nat Curzon Aldgate\nBook: https://www.curzon.com/films/the-devil-wears-prada-2/HO00006909/\nvia Pictures (pictures.london)
LOCATION:Curzon Aldgate\, 2 Whitechapel High Street\, Aldgate\, E1 8FA
URL:https://www.curzon.com/films/the-devil-wears-prada-2/HO00006909/
STATUS:CONFIRMED
END:VEVENT
END:VCALENDAR